BEGIN:VCALENDAR
VERSION:2.0
PRODID:-//AAUW Preschool - ECPv6.15.20//NONSGML v1.0//EN
CALSCALE:GREGORIAN
METHOD:PUBLISH
X-WR-CALNAME:AAUW Preschool
X-ORIGINAL-URL:https://www.aauwpreschool.org
X-WR-CALDESC:Events for AAUW Preschool
REFRESH-INTERVAL;VALUE=DURATION:PT1H
X-Robots-Tag:noindex
X-PUBLISHED-TTL:PT1H
BEGIN:VTIMEZONE
TZID:America/Chicago
BEGIN:DAYLIGHT
TZOFFSETFROM:-0600
TZOFFSETTO:-0500
TZNAME:CDT
DTSTART:20250309T080000
END:DAYLIGHT
BEGIN:STANDARD
TZOFFSETFROM:-0500
TZOFFSETTO:-0600
TZNAME:CST
DTSTART:20251102T070000
END:STANDARD
BEGIN:DAYLIGHT
TZOFFSETFROM:-0600
TZOFFSETTO:-0500
TZNAME:CDT
DTSTART:20260308T080000
END:DAYLIGHT
BEGIN:STANDARD
TZOFFSETFROM:-0500
TZOFFSETTO:-0600
TZNAME:CST
DTSTART:20261101T070000
END:STANDARD
BEGIN:DAYLIGHT
TZOFFSETFROM:-0600
TZOFFSETTO:-0500
TZNAME:CDT
DTSTART:20270314T080000
END:DAYLIGHT
BEGIN:STANDARD
TZOFFSETFROM:-0500
TZOFFSETTO:-0600
TZNAME:CST
DTSTART:20271107T070000
END:STANDARD
END:VTIMEZONE
BEGIN:VEVENT
DTSTART;TZID=America/Chicago:20260307T090000
DTEND;TZID=America/Chicago:20260307T101500
DTSTAMP:20260425T104820
CREATED:20260203T152549Z
LAST-MODIFIED:20260203T153444Z
UID:8205-1772874000-1772878500@www.aauwpreschool.org
SUMMARY:Saturday Scouts: Winter Session 2!
DESCRIPTION:Saturday Scouts: Winter Session II\nJoin us on the following Saturdays for “Saturday Scouts\,” a special class designed for kiddos ages 18-36 months & their caregiver! \n\nSaturday\, February 21\, 2026 from 9-10:15am\nSaturday\, February 28\, 2026 from 9-10:15am\nSaturday\, March 7\, 2026 from 9-10:15am\nSaturday\, March 14\, 2026 from 9-10:15am\n\nRegister for Saturday Scouts here: https://www.aauwpreschool.org/classes/scouts/ \nView this event on Facebook: https://www.facebook.com/share/1AeU2CF6WD/ \nContact Emily Frievalt\, Enrollment & Development Coordinator with registration questions at (847) 623-0550 or office@aauwpreschool.org \nWelcome Scouts!
URL:https://www.aauwpreschool.org/event/saturday-scouts-winter-session-2-3/
LOCATION:AAUW Preschool\, 2500 N. Northern Ave.\, Waukegan\, IL\, 60087\, United States
CATEGORIES:Scouts
ATTACH;FMTTYPE=image/jpeg:https://www.aauwpreschool.org/wp-content/uploads/2025/11/thumbnail-10-1.jpg
ORGANIZER;CN="AAUW Preschool":MAILTO:office@aauwpreschool.org
END:VEVENT
BEGIN:VEVENT
DTSTART;TZID=America/Chicago:20260314T090000
DTEND;TZID=America/Chicago:20260314T101500
DTSTAMP:20260425T104820
CREATED:20260203T152549Z
LAST-MODIFIED:20260203T153639Z
UID:8206-1773478800-1773483300@www.aauwpreschool.org
SUMMARY:Saturday Scouts: Winter Session 2!
DESCRIPTION:Saturday Scouts: Winter Session II\nJoin us on the following Saturdays for “Saturday Scouts\,” a special class designed for kiddos ages 18-36 months & their caregiver! \n\nSaturday\, February 21\, 2026 from 9-10:15am\nSaturday\, February 28\, 2026 from 9-10:15am\nSaturday\, March 7\, 2026 from 9-10:15am\nSaturday\, March 14\, 2026 from 9-10:15am\n\nRegister for Saturday Scouts here: https://www.aauwpreschool.org/classes/scouts/ \nView this event on Facebook: https://www.facebook.com/share/1AeU2CF6WD/ \nContact Emily Frievalt\, Enrollment & Development Coordinator with registration questions at (847) 623-0550 or office@aauwpreschool.org \nWelcome Scouts!
URL:https://www.aauwpreschool.org/event/saturday-scouts-winter-session-2-4/
LOCATION:AAUW Preschool\, 2500 N. Northern Ave.\, Waukegan\, IL\, 60087\, United States
CATEGORIES:Scouts
ATTACH;FMTTYPE=image/jpeg:https://www.aauwpreschool.org/wp-content/uploads/2025/11/thumbnail-10-1.jpg
ORGANIZER;CN="AAUW Preschool":MAILTO:office@aauwpreschool.org
END:VEVENT
END:VCALENDAR