BEGIN:VCALENDAR
VERSION:2.0
PRODID:-//AAUW Preschool - ECPv6.15.20//NONSGML v1.0//EN
CALSCALE:GREGORIAN
METHOD:PUBLISH
X-WR-CALNAME:AAUW Preschool
X-ORIGINAL-URL:https://www.aauwpreschool.org
X-WR-CALDESC:Events for AAUW Preschool
REFRESH-INTERVAL;VALUE=DURATION:PT1H
X-Robots-Tag:noindex
X-PUBLISHED-TTL:PT1H
BEGIN:VTIMEZONE
TZID:America/Chicago
BEGIN:DAYLIGHT
TZOFFSETFROM:-0600
TZOFFSETTO:-0500
TZNAME:CDT
DTSTART:20250309T080000
END:DAYLIGHT
BEGIN:STANDARD
TZOFFSETFROM:-0500
TZOFFSETTO:-0600
TZNAME:CST
DTSTART:20251102T070000
END:STANDARD
BEGIN:DAYLIGHT
TZOFFSETFROM:-0600
TZOFFSETTO:-0500
TZNAME:CDT
DTSTART:20260308T080000
END:DAYLIGHT
BEGIN:STANDARD
TZOFFSETFROM:-0500
TZOFFSETTO:-0600
TZNAME:CST
DTSTART:20261101T070000
END:STANDARD
BEGIN:DAYLIGHT
TZOFFSETFROM:-0600
TZOFFSETTO:-0500
TZNAME:CDT
DTSTART:20270314T080000
END:DAYLIGHT
BEGIN:STANDARD
TZOFFSETFROM:-0500
TZOFFSETTO:-0600
TZNAME:CST
DTSTART:20271107T070000
END:STANDARD
END:VTIMEZONE
BEGIN:VEVENT
DTSTART;TZID=America/Chicago:20260126T080000
DTEND;TZID=America/Chicago:20260206T130000
DTSTAMP:20260425T201351
CREATED:20260123T051819Z
LAST-MODIFIED:20260123T053615Z
UID:8087-1769414400-1770382800@www.aauwpreschool.org
SUMMARY:2026-2027 Priority Registration: Open for Current Families
DESCRIPTION:2026-2027 Priority Registration has Arrived!\nCurrently enrolled AAUW Preschool families can re-enroll their child/children from Monday\, January 26 through Friday\, February 6\, 2026. \nCurrently enrolled families are eligible to participate in this priority registration. Placement is based on a first-come\, first-served basis. Register during In-House Registration to guarantee a spot for the 2026-2027 school year! \nVisit https://www.aauwpreschool.org/2026-2027-class-summary-guide/ to view our 2026-2027 class options. \nContact us with questions! \nPhone: (847) 623-0550 \nE-mail: office@aauwpreschool.org \nFollow us on Facebook: https://www.facebook.com/AAUW.Preschool.Waukegan
URL:https://www.aauwpreschool.org/event/2026-2027-priority-registration/
LOCATION:AAUW Preschool\, 2500 N. Northern Ave.\, Waukegan\, IL\, 60087\, United States
ATTACH;FMTTYPE=image/jpeg:https://www.aauwpreschool.org/wp-content/uploads/2026/01/611987692_1469530148510093_4724737909319243234_n.jpg
ORGANIZER;CN="AAUW Preschool":MAILTO:office@aauwpreschool.org
END:VEVENT
BEGIN:VEVENT
DTSTART;TZID=America/Chicago:20260203T173000
DTEND;TZID=America/Chicago:20260203T190000
DTSTAMP:20260425T201351
CREATED:20260115T162844Z
LAST-MODIFIED:20260120T191754Z
UID:7971-1770139800-1770145200@www.aauwpreschool.org
SUMMARY:New Family Open House (2026-2027)
DESCRIPTION:2026-2027 Open House Alert!\nAAUW Preschool is pleased to welcome new families interested in enrolling their children in our 2026-2027 nature-focused\, play-based\, child-led program! \nServing families for the last 73 years\, AAUW Preschool is an award-winning\, parent co-operative preschool tucked away in a quiet\, residential neighborhood on on the Gurnee/Waukegan border. \nRegistration to attend is not required\, but appreciated. To let us know you’ll be attending\, please contact Emily Frievalt\, Development & Enrollment Coordinator at 847-623-0550 or office@aauwpreschool.org. \nPlease explore our site to learn about our programs\, class options and easy enrollment process. \nIf you can’t attend an Open House\, schedule a Shadow Day or Family Tour: https://www.aauwpreschool.org/plan-a-visit/ \nFollow us on Facebook: https://www.facebook.com/AAUW.Preschool.Waukegan \nAs always\, contact us with any questions. We look forward to meeting you! \n 
URL:https://www.aauwpreschool.org/event/new-family-open-house-2026-2027/
LOCATION:AAUW Preschool\, 2500 N. Northern Ave.\, Waukegan\, IL\, 60087\, United States
CATEGORIES:Open House
ATTACH;FMTTYPE=image/jpeg:https://www.aauwpreschool.org/wp-content/uploads/2026/01/616816570_818117051247162_982936976090120247_n.jpg
ORGANIZER;CN="AAUW Preschool":MAILTO:office@aauwpreschool.org
END:VEVENT
BEGIN:VEVENT
DTSTART;TZID=America/Chicago:20260209T083000
DTEND;TZID=America/Chicago:20260430T130000
DTSTAMP:20260425T201351
CREATED:20260123T044826Z
LAST-MODIFIED:20260126T195636Z
UID:8081-1770625800-1777554000@www.aauwpreschool.org
SUMMARY:Welcome! 2026-2027 Registration: Open for New & Returning Families!
DESCRIPTION:New family registration is now open!\nStarting today\, new and returning families are invited to register their child/children for the AAUW Preschool 2026-2027 school year! \nOur office is open daily from 8:30am-12:30pm to assist with the registration process. \nVisit https://www.aauwpreschool.org/2026-2027-class-summary-guide/ to view our 2026-2027 class options. \nContact us with questions! \nPhone: (847) 623-0550 \nE-mail: office@aauwpreschool.org \nFollow us on Facebook: https://www.facebook.com/AAUW.Preschool.Waukegan
URL:https://www.aauwpreschool.org/event/2026-2027-new-family-registration/
LOCATION:IL
ATTACH;FMTTYPE=image/png:https://www.aauwpreschool.org/wp-content/uploads/2026/01/Welcome-Picnic-scaled.png
END:VEVENT
BEGIN:VEVENT
DTSTART;TZID=America/Chicago:20260219T180000
DTEND;TZID=America/Chicago:20260219T200000
DTSTAMP:20260425T201351
CREATED:20260211T223658Z
LAST-MODIFIED:20260215T145429Z
UID:8396-1771524000-1771531200@www.aauwpreschool.org
SUMMARY:Queen of Hearts Raffle Drawing: Week 1!
DESCRIPTION:The popular Queen of Hearts raffle has arrived at AAUW Preschool!\nThe public is invited to join us for our weekly\, LIVE Queen of Hearts drawing! \nLive drawings take place every Thursday at 7PM. Drawings are held at Waukegan’s very own Quonset Pizza! \nJoin your favorite preschool at Waukegan’s favorite pizza parlor for a night of fun. Weekly drawings will take place until the Queen of Hearts card is revealed. Winner takes 50% of the progressive jackpot. \nTickets can be purchased at AAUW Preschool\, Quonset Pizza and online at https://www.aauwpreschool.org/queen-of-hearts/ \nGame rules\, current jackpot amount and more found at link above. \nLet us know you’re coming by following the Facebook event! https://www.facebook.com/share/1DkMBK2jPV/ \nEvery weekly drawing will be streamed live on Facebook at 7PM. Watch here! https://www.facebook.com/AAUW.Preschool.Waukegan \n 
URL:https://www.aauwpreschool.org/event/queen-of-hearts-raffle-drawing-week-1/
LOCATION:Quonset Pizza\, 2602 Grand Avenue\, Waukegan\, IL\, 60085\, United States
CATEGORIES:Community Event,Fundraiser
ATTACH;FMTTYPE=image/jpeg:https://www.aauwpreschool.org/wp-content/uploads/2026/02/royal-heart-emblem-vector-1036399.jpg
ORGANIZER;CN="AAUW Preschool":MAILTO:office@aauwpreschool.org
END:VEVENT
BEGIN:VEVENT
DTSTART;TZID=America/Chicago:20260221T090000
DTEND;TZID=America/Chicago:20260221T101500
DTSTAMP:20260425T201351
CREATED:20260203T152549Z
LAST-MODIFIED:20260203T152550Z
UID:8202-1771664400-1771668900@www.aauwpreschool.org
SUMMARY:Saturday Scouts: Winter Session 2!
DESCRIPTION:Saturday Scouts: Winter Session II\nJoin us on the following Saturdays for “Saturday Scouts\,” a special class designed for kiddos ages 18-36 months & their caregiver! \n\nSaturday\, February 21\, 2026 from 9-10:15am\nSaturday\, February 28\, 2026 from 9-10:15am\nSaturday\, March 7\, 2026 from 9-10:15am\nSaturday\, March 14\, 2026 from 9-10:15am\n\nRegister for Saturday Scouts here: https://www.aauwpreschool.org/classes/scouts/ \nView this event on Facebook: https://www.facebook.com/share/1AeU2CF6WD/ \nContact Emily Frievalt\, Enrollment & Development Coordinator with registration questions at (847) 623-0550 or office@aauwpreschool.org \nWelcome Scouts!
URL:https://www.aauwpreschool.org/event/saturday-scouts-winter-session-2/
LOCATION:AAUW Preschool\, 2500 N. Northern Ave.\, Waukegan\, IL\, 60087\, United States
CATEGORIES:Scouts
ATTACH;FMTTYPE=image/jpeg:https://www.aauwpreschool.org/wp-content/uploads/2025/11/thumbnail-10-1.jpg
ORGANIZER;CN="AAUW Preschool":MAILTO:office@aauwpreschool.org
END:VEVENT
BEGIN:VEVENT
DTSTART;TZID=America/Chicago:20260225T173000
DTEND;TZID=America/Chicago:20260225T190000
DTSTAMP:20260425T201351
CREATED:20260115T162844Z
LAST-MODIFIED:20260120T193222Z
UID:7975-1772040600-1772046000@www.aauwpreschool.org
SUMMARY:New Family Open House (2026-2027)
DESCRIPTION:2026-2027 Open House Alert!\nAAUW Preschool is pleased to welcome new families interested in enrolling their children in our 2026-2027 nature-focused\, play-based\, child-led program! \nServing families for the last 73 years\, AAUW Preschool is an award-winning\, parent co-operative preschool tucked away in a quiet\, residential neighborhood on on the Gurnee/Waukegan border. \nRegistration to attend is not required\, but appreciated. To let us know you’ll be attending\, please contact Emily Frievalt\, Development & Enrollment Coordinator at 847-623-0550 or office@aauwpreschool.org. \nPlease explore our site to learn about our programs\, class options and easy enrollment process. \nIf you can’t attend an Open House\, schedule a Shadow Day or Family Tour: https://www.aauwpreschool.org/plan-a-visit/ \nFollow us on Facebook: https://www.facebook.com/AAUW.Preschool.Waukegan \nAs always\, contact us with any questions. We look forward to meeting you! \n 
URL:https://www.aauwpreschool.org/event/new-family-open-house-2026-2027-2/
LOCATION:AAUW Preschool\, 2500 N. Northern Ave.\, Waukegan\, IL\, 60087\, United States
CATEGORIES:Open House
ATTACH;FMTTYPE=image/jpeg:https://www.aauwpreschool.org/wp-content/uploads/2026/01/616812909_818119194580281_4437617010902626960_n.jpg
ORGANIZER;CN="AAUW Preschool":MAILTO:office@aauwpreschool.org
END:VEVENT
BEGIN:VEVENT
DTSTART;TZID=America/Chicago:20260228T090000
DTEND;TZID=America/Chicago:20260228T101500
DTSTAMP:20260425T201351
CREATED:20260203T152549Z
LAST-MODIFIED:20260203T153259Z
UID:8204-1772269200-1772273700@www.aauwpreschool.org
SUMMARY:Saturday Scouts: Winter Session 2!
DESCRIPTION:Saturday Scouts: Winter Session II\nJoin us on the following Saturdays for “Saturday Scouts\,” a special class designed for kiddos ages 18-36 months & their caregiver! \n\nSaturday\, February 21\, 2026 from 9-10:15am\nSaturday\, February 28\, 2026 from 9-10:15am\nSaturday\, March 7\, 2026 from 9-10:15am\nSaturday\, March 14\, 2026 from 9-10:15am\n\nRegister for Saturday Scouts here: https://www.aauwpreschool.org/classes/scouts/ \nView this event on Facebook: https://www.facebook.com/share/1AeU2CF6WD/ \nContact Emily Frievalt\, Enrollment & Development Coordinator with registration questions at (847) 623-0550 or office@aauwpreschool.org \nWelcome Scouts!
URL:https://www.aauwpreschool.org/event/saturday-scouts-winter-session-2-2/
LOCATION:AAUW Preschool\, 2500 N. Northern Ave.\, Waukegan\, IL\, 60087\, United States
CATEGORIES:Scouts
ATTACH;FMTTYPE=image/jpeg:https://www.aauwpreschool.org/wp-content/uploads/2025/11/thumbnail-10-1.jpg
ORGANIZER;CN="AAUW Preschool":MAILTO:office@aauwpreschool.org
END:VEVENT
END:VCALENDAR