BEGIN:VCALENDAR
VERSION:2.0
PRODID:-//AAUW Preschool - ECPv6.15.20//NONSGML v1.0//EN
CALSCALE:GREGORIAN
METHOD:PUBLISH
X-WR-CALNAME:AAUW Preschool
X-ORIGINAL-URL:https://www.aauwpreschool.org
X-WR-CALDESC:Events for AAUW Preschool
REFRESH-INTERVAL;VALUE=DURATION:PT1H
X-Robots-Tag:noindex
X-PUBLISHED-TTL:PT1H
BEGIN:VTIMEZONE
TZID:America/Chicago
BEGIN:DAYLIGHT
TZOFFSETFROM:-0600
TZOFFSETTO:-0500
TZNAME:CDT
DTSTART:20240310T080000
END:DAYLIGHT
BEGIN:STANDARD
TZOFFSETFROM:-0500
TZOFFSETTO:-0600
TZNAME:CST
DTSTART:20241103T070000
END:STANDARD
BEGIN:DAYLIGHT
TZOFFSETFROM:-0600
TZOFFSETTO:-0500
TZNAME:CDT
DTSTART:20250309T080000
END:DAYLIGHT
BEGIN:STANDARD
TZOFFSETFROM:-0500
TZOFFSETTO:-0600
TZNAME:CST
DTSTART:20251102T070000
END:STANDARD
BEGIN:DAYLIGHT
TZOFFSETFROM:-0600
TZOFFSETTO:-0500
TZNAME:CDT
DTSTART:20260308T080000
END:DAYLIGHT
BEGIN:STANDARD
TZOFFSETFROM:-0500
TZOFFSETTO:-0600
TZNAME:CST
DTSTART:20261101T070000
END:STANDARD
END:VTIMEZONE
BEGIN:VEVENT
DTSTART;VALUE=DATE:20251201
DTEND;VALUE=DATE:20251202
DTSTAMP:20260425T132215
CREATED:20251127T041723Z
LAST-MODIFIED:20251127T041723Z
UID:7685-1764547200-1764633599@www.aauwpreschool.org
SUMMARY:Order your Kringles today!
DESCRIPTION:Purchase your delicious\, holiday Kringles online until Tuesday\, December 2nd. \nOrders are open the public! \nMore information and order here:  https://www.aauwpreschool.org/support/ \n 
URL:https://www.aauwpreschool.org/event/order-your-kringles-today-6/
LOCATION:AAUW Preschool\, 2500 N. Northern Ave.\, Waukegan\, IL\, 60087\, United States
CATEGORIES:Fundraiser
ORGANIZER;CN="AAUW Preschool":MAILTO:office@aauwpreschool.org
END:VEVENT
BEGIN:VEVENT
DTSTART;TZID=America/Chicago:20251202T000000
DTEND;TZID=America/Chicago:20251202T235900
DTSTAMP:20260425T132215
CREATED:20251001T050110Z
LAST-MODIFIED:20251118T173830Z
UID:6752-1764633600-1764719940@www.aauwpreschool.org
SUMMARY:Giving Tuesday 2025
DESCRIPTION:Giving Tuesday 2025 has arrived! \nAs a 501c3 non-profit organization\, AAUW Preschool counts on gifts from donors like YOU to help fill in the gaps. Make a difference TODAY by supporting AAUW Preschool with a gift from our support page. Choose your gift from a number of different options! \nDonate here: https://www.aauwpreschool.org/support/giving-tuesday-2025/
URL:https://www.aauwpreschool.org/event/giving-tuesday-2025-3/
LOCATION:AAUW Preschool\, 2500 N. Northern Ave.\, Waukegan\, IL\, 60087\, United States
CATEGORIES:Fundraiser
ORGANIZER;CN="AAUW Preschool":MAILTO:office@aauwpreschool.org
END:VEVENT
BEGIN:VEVENT
DTSTART;VALUE=DATE:20251202
DTEND;VALUE=DATE:20251203
DTSTAMP:20260425T132215
CREATED:20251127T041723Z
LAST-MODIFIED:20251127T041723Z
UID:7686-1764633600-1764719999@www.aauwpreschool.org
SUMMARY:Order your Kringles today!
DESCRIPTION:Purchase your delicious\, holiday Kringles online until Tuesday\, December 2nd. \nOrders are open the public! \nMore information and order here:  https://www.aauwpreschool.org/support/ \n 
URL:https://www.aauwpreschool.org/event/order-your-kringles-today-7/
LOCATION:AAUW Preschool\, 2500 N. Northern Ave.\, Waukegan\, IL\, 60087\, United States
CATEGORIES:Fundraiser
ORGANIZER;CN="AAUW Preschool":MAILTO:office@aauwpreschool.org
END:VEVENT
BEGIN:VEVENT
DTSTART;TZID=America/Chicago:20251210T160000
DTEND;TZID=America/Chicago:20251210T220000
DTSTAMP:20260425T132215
CREATED:20251118T164107Z
LAST-MODIFIED:20251122T051528Z
UID:7479-1765382400-1765404000@www.aauwpreschool.org
SUMMARY:Lou Malnati's Restaurant Fundraiser
DESCRIPTION:Join us Wednesday\, December 10th from 4-10PM to chow down on delicious pizza AND support AAUW Preschool! \nDetails in the event photo…thanks for your support!
URL:https://www.aauwpreschool.org/event/lou-malnatis-restaurant-fundraiser-2/
LOCATION:Lou Malnati’s Gurnee\, 4949 Grand Ave\, Gurnee\, IL\, 60031\, United States
CATEGORIES:Fundraiser
ORGANIZER;CN="AAUW Preschool":MAILTO:office@aauwpreschool.org
END:VEVENT
BEGIN:VEVENT
DTSTART;VALUE=DATE:20251215
DTEND;VALUE=DATE:20251216
DTSTAMP:20260425T132215
CREATED:20250820T054545Z
LAST-MODIFIED:20250820T054545Z
UID:6319-1765756800-1765843199@www.aauwpreschool.org
SUMMARY:Tuition Payment 5 of 10 due today
DESCRIPTION:
URL:https://www.aauwpreschool.org/event/tuition-payment-5-of-10-due-today/
LOCATION:AAUW Preschool\, 2500 N. Northern Ave.\, Waukegan\, IL\, 60087\, United States
CATEGORIES:AAUW Families
ORGANIZER;CN="AAUW Preschool":MAILTO:office@aauwpreschool.org
END:VEVENT
END:VCALENDAR