BEGIN:VCALENDAR
VERSION:2.0
PRODID:-//AAUW Preschool - ECPv6.15.20//NONSGML v1.0//EN
CALSCALE:GREGORIAN
METHOD:PUBLISH
X-WR-CALNAME:AAUW Preschool
X-ORIGINAL-URL:https://www.aauwpreschool.org
X-WR-CALDESC:Events for AAUW Preschool
REFRESH-INTERVAL;VALUE=DURATION:PT1H
X-Robots-Tag:noindex
X-PUBLISHED-TTL:PT1H
BEGIN:VTIMEZONE
TZID:America/Chicago
BEGIN:DAYLIGHT
TZOFFSETFROM:-0600
TZOFFSETTO:-0500
TZNAME:CDT
DTSTART:20240310T080000
END:DAYLIGHT
BEGIN:STANDARD
TZOFFSETFROM:-0500
TZOFFSETTO:-0600
TZNAME:CST
DTSTART:20241103T070000
END:STANDARD
BEGIN:DAYLIGHT
TZOFFSETFROM:-0600
TZOFFSETTO:-0500
TZNAME:CDT
DTSTART:20250309T080000
END:DAYLIGHT
BEGIN:STANDARD
TZOFFSETFROM:-0500
TZOFFSETTO:-0600
TZNAME:CST
DTSTART:20251102T070000
END:STANDARD
BEGIN:DAYLIGHT
TZOFFSETFROM:-0600
TZOFFSETTO:-0500
TZNAME:CDT
DTSTART:20260308T080000
END:DAYLIGHT
BEGIN:STANDARD
TZOFFSETFROM:-0500
TZOFFSETTO:-0600
TZNAME:CST
DTSTART:20261101T070000
END:STANDARD
END:VTIMEZONE
BEGIN:VEVENT
DTSTART;TZID=America/Chicago:20251001T173000
DTEND;TZID=America/Chicago:20251001T184500
DTSTAMP:20260425T195454
CREATED:20250828T162007Z
LAST-MODIFIED:20250904T150420Z
UID:6489-1759339800-1759344300@www.aauwpreschool.org
SUMMARY:Fall Scouts Session 1/Week #4
DESCRIPTION:Fall Scouts Session 1: September 10-October 1\, 2025. Wednesday evenings from 5:30pm-6:45pm \nFall Scouts Session 2: October 10-November 1\, 2025. Saturday mornings from 9:30am-10:45am \nClick on the link below for additional information and registration forms!
URL:https://www.aauwpreschool.org/event/fall-scouts-session-1-week-4/
LOCATION:AAUW Preschool\, 2500 N. Northern Ave.\, Waukegan\, IL\, 60087\, United States
CATEGORIES:AAUW Families,Registration Required,Scouts
ATTACH;FMTTYPE=image/jpeg:https://www.aauwpreschool.org/wp-content/uploads/2025/08/2025-Fall-Scouts-ENG-1.jpg
ORGANIZER;CN="AAUW Preschool":MAILTO:office@aauwpreschool.org
END:VEVENT
BEGIN:VEVENT
DTSTART;TZID=America/Chicago:20251004T130000
DTEND;TZID=America/Chicago:20251004T160000
DTSTAMP:20260425T195454
CREATED:20250820T142003Z
LAST-MODIFIED:20250821T032800Z
UID:6331-1759582800-1759593600@www.aauwpreschool.org
SUMMARY:2025 Fall Festival!
DESCRIPTION:
URL:https://www.aauwpreschool.org/event/2025-fall-festival/
LOCATION:AAUW Preschool\, 2500 N. Northern Ave.\, Waukegan\, IL\, 60087\, United States
ORGANIZER;CN="AAUW Preschool":MAILTO:office@aauwpreschool.org
END:VEVENT
BEGIN:VEVENT
DTSTART;TZID=America/Chicago:20251010T083000
DTEND;TZID=America/Chicago:20251010T113000
DTSTAMP:20260425T195454
CREATED:20250820T141243Z
LAST-MODIFIED:20250820T142731Z
UID:6327-1760085000-1760095800@www.aauwpreschool.org
SUMMARY:NO SCHOOL: Staff In-Service
DESCRIPTION:
URL:https://www.aauwpreschool.org/event/no-school-staff-in-service-4/
LOCATION:AAUW Preschool\, 2500 N. Northern Ave.\, Waukegan\, IL\, 60087\, United States
CATEGORIES:AAUW Families
ATTACH;FMTTYPE=image/png:https://www.aauwpreschool.org/wp-content/uploads/2025/08/528477_cc0a48912b5e46ebb147b03ba4e10d46mv2.png
ORGANIZER;CN="AAUW Preschool":MAILTO:office@aauwpreschool.org
END:VEVENT
BEGIN:VEVENT
DTSTART;TZID=America/Chicago:20251011T093000
DTEND;TZID=America/Chicago:20251011T104500
DTSTAMP:20260425T195454
CREATED:20250828T162007Z
LAST-MODIFIED:20250904T151118Z
UID:6490-1760175000-1760179500@www.aauwpreschool.org
SUMMARY:Fall Scouts Session 2/Week #1
DESCRIPTION:Fall Scouts Session 1: September 10-October 1\, 2025. Wednesday evenings from 5:30pm-6:45pm \nFall Scouts Session 2: October 11-November 1\, 2025. Saturday mornings from 9:30am-10:45am \nClick on the link below for additional information and registration forms!
URL:https://www.aauwpreschool.org/event/fall-scouts-session-2-week-4/
LOCATION:AAUW Preschool\, 2500 N. Northern Ave.\, Waukegan\, IL\, 60087\, United States
CATEGORIES:AAUW Families,Registration Required,Scouts
ATTACH;FMTTYPE=image/jpeg:https://www.aauwpreschool.org/wp-content/uploads/2025/08/2025-Fall-Scouts-ENG-1.jpg
ORGANIZER;CN="AAUW Preschool":MAILTO:office@aauwpreschool.org
END:VEVENT
BEGIN:VEVENT
DTSTART;TZID=America/Chicago:20251013T083000
DTEND;TZID=America/Chicago:20251013T113000
DTSTAMP:20260425T195454
CREATED:20250820T141458Z
LAST-MODIFIED:20250820T142827Z
UID:6329-1760344200-1760355000@www.aauwpreschool.org
SUMMARY:NO SCHOOL: Indigenous Peoples' Day
DESCRIPTION:
URL:https://www.aauwpreschool.org/event/no-school-indigenous-peoples-day-2/
LOCATION:AAUW Preschool\, 2500 N. Northern Ave.\, Waukegan\, IL\, 60087\, United States
CATEGORIES:AAUW Families
ATTACH;FMTTYPE=image/png:https://www.aauwpreschool.org/wp-content/uploads/2025/08/528477_cc0a48912b5e46ebb147b03ba4e10d46mv2.png
ORGANIZER;CN="AAUW Preschool":MAILTO:office@aauwpreschool.org
END:VEVENT
BEGIN:VEVENT
DTSTART;VALUE=DATE:20251015
DTEND;VALUE=DATE:20251016
DTSTAMP:20260425T195454
CREATED:20250820T054545Z
LAST-MODIFIED:20250820T054545Z
UID:6317-1760486400-1760572799@www.aauwpreschool.org
SUMMARY:Tuition Payment 3 of 10 due today
DESCRIPTION:
URL:https://www.aauwpreschool.org/event/tuition-payment-3-of-10-due-today/
LOCATION:AAUW Preschool\, 2500 N. Northern Ave.\, Waukegan\, IL\, 60087\, United States
CATEGORIES:AAUW Families
ORGANIZER;CN="AAUW Preschool":MAILTO:office@aauwpreschool.org
END:VEVENT
BEGIN:VEVENT
DTSTART;TZID=America/Chicago:20251015T190000
DTEND;TZID=America/Chicago:20251015T203000
DTSTAMP:20260425T195454
CREATED:20250806T042514Z
LAST-MODIFIED:20250806T042514Z
UID:6228-1760554800-1760560200@www.aauwpreschool.org
SUMMARY:October Board Meeting
DESCRIPTION:Each month\, the AAUW Preschool Board of Directors meet to discuss a variety of topics important to the school. \nMeetings are held from 7:00-8:30pm and are open to the school community. Babysitting is available during the board meetings. \nInterested in joining our Board of Directors? Call 847-623-0550 or e-mail office@aauwpreschool.org to learn more!
URL:https://www.aauwpreschool.org/event/october-board-meeting/
LOCATION:AAUW Preschool\, 2500 N. Northern Ave.\, Waukegan\, IL\, 60087\, United States
CATEGORIES:Board Meeting
ORGANIZER;CN="AAUW Preschool":MAILTO:office@aauwpreschool.org
END:VEVENT
BEGIN:VEVENT
DTSTART;TZID=America/Chicago:20251018T093000
DTEND;TZID=America/Chicago:20251018T104500
DTSTAMP:20260425T195454
CREATED:20250828T162007Z
LAST-MODIFIED:20250904T151343Z
UID:6492-1760779800-1760784300@www.aauwpreschool.org
SUMMARY:Fall Scouts Session 2/Week #2
DESCRIPTION:Fall Scouts Session 1: September 10-October 1\, 2025. Wednesday evenings from 5:30pm-6:45pm \nFall Scouts Session 2: October 11-November 1\, 2025. Saturday mornings from 9:30am-10:45am \nClick on the link below for additional information and registration forms!
URL:https://www.aauwpreschool.org/event/fall-scouts-session-2-week-2/
LOCATION:AAUW Preschool\, 2500 N. Northern Ave.\, Waukegan\, IL\, 60087\, United States
CATEGORIES:AAUW Families,Registration Required,Scouts
ATTACH;FMTTYPE=image/jpeg:https://www.aauwpreschool.org/wp-content/uploads/2025/08/2025-Fall-Scouts-ENG-1.jpg
ORGANIZER;CN="AAUW Preschool":MAILTO:office@aauwpreschool.org
END:VEVENT
BEGIN:VEVENT
DTSTART;TZID=America/Chicago:20251022T083000
DTEND;TZID=America/Chicago:20251022T113000
DTSTAMP:20260425T195454
CREATED:20250820T142557Z
LAST-MODIFIED:20250820T142558Z
UID:6334-1761121800-1761132600@www.aauwpreschool.org
SUMMARY:Picture Day: Adventure & Discovery
DESCRIPTION:Children in the Adventure & Discovery classes will take school pictures today.
URL:https://www.aauwpreschool.org/event/picture-day-adventure-discovery/
LOCATION:AAUW Preschool\, 2500 N. Northern Ave.\, Waukegan\, IL\, 60087\, United States
CATEGORIES:AAUW Families,Fundraiser
ATTACH;FMTTYPE=image/png:https://www.aauwpreschool.org/wp-content/uploads/2025/08/GC9R6StWwAArIsB.png
ORGANIZER;CN="AAUW Preschool":MAILTO:office@aauwpreschool.org
END:VEVENT
BEGIN:VEVENT
DTSTART;TZID=America/Chicago:20251023T083000
DTEND;TZID=America/Chicago:20251023T113000
DTSTAMP:20260425T195454
CREATED:20250820T142557Z
LAST-MODIFIED:20250820T143156Z
UID:6337-1761208200-1761219000@www.aauwpreschool.org
SUMMARY:Picture Day: Voyager & Explorer
DESCRIPTION:Children in the Voyager & Explorer classes will take school pictures today.
URL:https://www.aauwpreschool.org/event/picture-day-voyager-explorer/
LOCATION:AAUW Preschool\, 2500 N. Northern Ave.\, Waukegan\, IL\, 60087\, United States
CATEGORIES:AAUW Families,Fundraiser
ATTACH;FMTTYPE=image/png:https://www.aauwpreschool.org/wp-content/uploads/2025/08/GC9R6StWwAArIsB.png
ORGANIZER;CN="AAUW Preschool":MAILTO:office@aauwpreschool.org
END:VEVENT
BEGIN:VEVENT
DTSTART;TZID=America/Chicago:20251025T093000
DTEND;TZID=America/Chicago:20251025T104500
DTSTAMP:20260425T195454
CREATED:20250828T162007Z
LAST-MODIFIED:20250904T151731Z
UID:6493-1761384600-1761389100@www.aauwpreschool.org
SUMMARY:Fall Scouts Session 2/Week #3
DESCRIPTION:Fall Scouts Session 1: September 10-October 1\, 2025. Wednesday evenings from 5:30pm-6:45pm \nFall Scouts Session 2: October 11-November 1\, 2025. Saturday mornings from 9:30am-10:45am \nClick on the link below for additional information and registration forms!
URL:https://www.aauwpreschool.org/event/fall-scouts-session-2-week-3/
LOCATION:AAUW Preschool\, 2500 N. Northern Ave.\, Waukegan\, IL\, 60087\, United States
CATEGORIES:AAUW Families,Registration Required,Scouts
ATTACH;FMTTYPE=image/jpeg:https://www.aauwpreschool.org/wp-content/uploads/2025/08/2025-Fall-Scouts-ENG-1.jpg
ORGANIZER;CN="AAUW Preschool":MAILTO:office@aauwpreschool.org
END:VEVENT
BEGIN:VEVENT
DTSTART;TZID=America/Chicago:20251028T173000
DTEND;TZID=America/Chicago:20251028T190000
DTSTAMP:20260425T195454
CREATED:20250728T040322Z
LAST-MODIFIED:20251017T162733Z
UID:6888-1761672600-1761678000@www.aauwpreschool.org
SUMMARY:October Preschool Preview/Open House
DESCRIPTION:Prospective families interested in learning more about AAUW Preschool are welcome to attend our October 28th Open House to take a school tour\, meet current families/staff and receive registration information. \nFamilies who register during the Open House will receive 50% off their 2025-2026 Registration Fee! \nFeel free to call us at 847-623-0550 or e-mail Emily Frievalt at office@aauwpreschool.org with questions. Registration not required. \nKiddos & siblings are encouraged to attend!
URL:https://www.aauwpreschool.org/event/october-preschool-preview-open-house/
LOCATION:AAUW Preschool\, 2500 N. Northern Ave.\, Waukegan\, IL\, 60087\, United States
CATEGORIES:Open House
ATTACH;FMTTYPE=image/jpeg:https://www.aauwpreschool.org/wp-content/uploads/2025/07/OH-10-28_Page_1.jpg
ORGANIZER;CN="AAUW Preschool":MAILTO:office@aauwpreschool.org
END:VEVENT
END:VCALENDAR