BEGIN:VCALENDAR
VERSION:2.0
PRODID:-//AAUW Preschool - ECPv6.15.20//NONSGML v1.0//EN
CALSCALE:GREGORIAN
METHOD:PUBLISH
X-ORIGINAL-URL:https://www.aauwpreschool.org
X-WR-CALDESC:Events for AAUW Preschool
REFRESH-INTERVAL;VALUE=DURATION:PT1H
X-Robots-Tag:noindex
X-PUBLISHED-TTL:PT1H
BEGIN:VTIMEZONE
TZID:America/Chicago
BEGIN:DAYLIGHT
TZOFFSETFROM:-0600
TZOFFSETTO:-0500
TZNAME:CDT
DTSTART:20240310T080000
END:DAYLIGHT
BEGIN:STANDARD
TZOFFSETFROM:-0500
TZOFFSETTO:-0600
TZNAME:CST
DTSTART:20241103T070000
END:STANDARD
BEGIN:DAYLIGHT
TZOFFSETFROM:-0600
TZOFFSETTO:-0500
TZNAME:CDT
DTSTART:20250309T080000
END:DAYLIGHT
BEGIN:STANDARD
TZOFFSETFROM:-0500
TZOFFSETTO:-0600
TZNAME:CST
DTSTART:20251102T070000
END:STANDARD
BEGIN:DAYLIGHT
TZOFFSETFROM:-0600
TZOFFSETTO:-0500
TZNAME:CDT
DTSTART:20260308T080000
END:DAYLIGHT
BEGIN:STANDARD
TZOFFSETFROM:-0500
TZOFFSETTO:-0600
TZNAME:CST
DTSTART:20261101T070000
END:STANDARD
END:VTIMEZONE
BEGIN:VEVENT
DTSTART;TZID=America/Chicago:20250806T173000
DTEND;TZID=America/Chicago:20250806T190000
DTSTAMP:20260425T222109
CREATED:20250728T040322Z
LAST-MODIFIED:20250728T041943Z
UID:6057-1754501400-1754506800@www.aauwpreschool.org
SUMMARY:August Preschool Preview/Open House
DESCRIPTION:Prospective families interested in learning more about AAUW Preschool are welcome to attend our August 6th Open House to take a school tour\, meet current families/staff and receive registration information! \nFeel free to call us at 847-623-0550 or e-mail Emily Frievalt at office@aauwpreschool.org with questions. \nKiddos & siblings are encouraged to attend!
URL:https://www.aauwpreschool.org/event/august-preschool-preview-open-house/
LOCATION:AAUW Preschool\, 2500 N. Northern Ave.\, Waukegan\, IL\, 60087\, United States
CATEGORIES:Open House
ORGANIZER;CN="AAUW Preschool":MAILTO:office@aauwpreschool.org
END:VEVENT
BEGIN:VEVENT
DTSTART;TZID=America/Chicago:20250810T120000
DTEND;TZID=America/Chicago:20250810T140000
DTSTAMP:20260425T222109
CREATED:20250611T014022Z
LAST-MODIFIED:20250611T014510Z
UID:5938-1754827200-1754834400@www.aauwpreschool.org
SUMMARY:2025 Gurnee Days Parade
DESCRIPTION:Show your support for AAUW Preschool by walking with our unit in the 2025 Gurnee Days Parade! \nCurrent families\, alums & friends of the preschool are welcome & encouraged to walk down the parade route with AAUW! \nParticipants will be contacted the week prior to the parade with parade details\, lineup information\, etc. \nCall or email the office to let us know you’ll be joining us! \nE-mail: office@aauwpreschool.org \nPhone: 847-623-0550
URL:https://www.aauwpreschool.org/event/gurnee-days-2025-parade/
CATEGORIES:Community Event
END:VEVENT
BEGIN:VEVENT
DTSTART;VALUE=DATE:20250819
DTEND;VALUE=DATE:20250823
DTSTAMP:20260425T222109
CREATED:20250808T045336Z
LAST-MODIFIED:20250808T045336Z
UID:6236-1755561600-1755907199@www.aauwpreschool.org
SUMMARY:Student Developmental Screens
DESCRIPTION:
URL:https://www.aauwpreschool.org/event/student-developmental-screens/
LOCATION:AAUW Preschool\, 2500 N. Northern Ave.\, Waukegan\, IL\, 60087\, United States
CATEGORIES:AAUW Families
ORGANIZER;CN="AAUW Preschool":MAILTO:office@aauwpreschool.org
END:VEVENT
BEGIN:VEVENT
DTSTART;TZID=America/Chicago:20250820T190000
DTEND;TZID=America/Chicago:20250820T203000
DTSTAMP:20260425T222109
CREATED:20250806T042514Z
LAST-MODIFIED:20250808T042915Z
UID:6212-1755716400-1755721800@www.aauwpreschool.org
SUMMARY:August Board Meeting
DESCRIPTION:Each month\, the AAUW Preschool Board of Directors meet to discuss a variety of topics important to the school. \nMeetings are held from 7:00-8:30pm and are open to the school community. Babysitting is available during the board meetings. \nInterested in joining our Board of Directors? Call 847-623-0550 or e-mail office@aauwpreschool.org to learn more!
URL:https://www.aauwpreschool.org/event/monthly-board-meeting/
LOCATION:AAUW Preschool\, 2500 N. Northern Ave.\, Waukegan\, IL\, 60087\, United States
CATEGORIES:Board Meeting
ORGANIZER;CN="AAUW Preschool":MAILTO:office@aauwpreschool.org
END:VEVENT
BEGIN:VEVENT
DTSTART;TZID=America/Chicago:20250825T083000
DTEND;TZID=America/Chicago:20250825T113000
DTSTAMP:20260425T222109
CREATED:20250819T043021Z
LAST-MODIFIED:20250819T043021Z
UID:6290-1756110600-1756121400@www.aauwpreschool.org
SUMMARY:Adventure & Discovery First Days (1/2 class)
DESCRIPTION:Students enrolled in Adventure & Discovery classes attend today. \n1/2 the class attends today\, the other 1/2 attend Wednesday\, August 27. \nSee enrollment e-mail from the office to confirm which day your child should attend for the first day of class. \nWelcome back!
URL:https://www.aauwpreschool.org/event/adventure-discovery-first-days-1-2-class/
LOCATION:AAUW Preschool\, 2500 N. Northern Ave.\, Waukegan\, IL\, 60087\, United States
CATEGORIES:AAUW Families
ATTACH;FMTTYPE=image/jpeg:https://www.aauwpreschool.org/wp-content/uploads/2025/08/71wsD1NPjLS.jpg
ORGANIZER;CN="AAUW Preschool":MAILTO:office@aauwpreschool.org
END:VEVENT
BEGIN:VEVENT
DTSTART;TZID=America/Chicago:20250826T083000
DTEND;TZID=America/Chicago:20250826T113000
DTSTAMP:20260425T222109
CREATED:20250819T043620Z
LAST-MODIFIED:20250821T032908Z
UID:6296-1756197000-1756207800@www.aauwpreschool.org
SUMMARY:Voyagers & Explorers First Days (1/2 Class)
DESCRIPTION:Students enrolled in Voyager (8:30-11:30) & Explorer (9:30-11:30) classes attend today. \n1/2 the class attends today\, the other 1/2 attend Thursday\, August 28. \nSee enrollment e-mail from the office to confirm which day your child should attend for the first day of class. \nWelcome back!
URL:https://www.aauwpreschool.org/event/voyager-explorer-first-days-1-2-class/
LOCATION:AAUW Preschool\, 2500 N. Northern Ave.\, Waukegan\, IL\, 60087\, United States
CATEGORIES:AAUW Families
ATTACH;FMTTYPE=image/jpeg:https://www.aauwpreschool.org/wp-content/uploads/2025/08/71wsD1NPjLS.jpg
ORGANIZER;CN="AAUW Preschool":MAILTO:office@aauwpreschool.org
END:VEVENT
BEGIN:VEVENT
DTSTART;TZID=America/Chicago:20250827T083000
DTEND;TZID=America/Chicago:20250827T113000
DTSTAMP:20260425T222109
CREATED:20250819T043021Z
LAST-MODIFIED:20250819T043218Z
UID:6293-1756283400-1756294200@www.aauwpreschool.org
SUMMARY:Adventure & Discovery First Days (1/2 class)
DESCRIPTION:Students enrolled in Adventure & Discovery classes attend today. \n1/2 the class attends today\, the other 1/2 attend Monday\, August 25. \nSee enrollment e-mail from the office to confirm which day your child should attend for the first day of class. \nWelcome back!
URL:https://www.aauwpreschool.org/event/adventure-discovery-first-days-1-2-class-2/
LOCATION:AAUW Preschool\, 2500 N. Northern Ave.\, Waukegan\, IL\, 60087\, United States
CATEGORIES:AAUW Families
ATTACH;FMTTYPE=image/jpeg:https://www.aauwpreschool.org/wp-content/uploads/2025/08/71wsD1NPjLS.jpg
ORGANIZER;CN="AAUW Preschool":MAILTO:office@aauwpreschool.org
END:VEVENT
BEGIN:VEVENT
DTSTART;TZID=America/Chicago:20250828T083000
DTEND;TZID=America/Chicago:20250828T113000
DTSTAMP:20260425T222109
CREATED:20250819T043620Z
LAST-MODIFIED:20250821T032947Z
UID:6299-1756369800-1756380600@www.aauwpreschool.org
SUMMARY:Voyagers & Explorers First Days (1/2 Class)
DESCRIPTION:Students enrolled in Voyager (8:30-11:30) & Explorer (9:30-11:30) classes attend today. \n1/2 the class attends today\, the other 1/2 attend Tuesday\, August 26. \nSee enrollment e-mail from the office to confirm which day your child should attend for the first day of class. \nWelcome back!
URL:https://www.aauwpreschool.org/event/voyager-explorer-first-days-1-2-class-2/
LOCATION:AAUW Preschool\, 2500 N. Northern Ave.\, Waukegan\, IL\, 60087\, United States
CATEGORIES:AAUW Families
ATTACH;FMTTYPE=image/jpeg:https://www.aauwpreschool.org/wp-content/uploads/2025/08/71wsD1NPjLS.jpg
ORGANIZER;CN="AAUW Preschool":MAILTO:office@aauwpreschool.org
END:VEVENT
END:VCALENDAR