BEGIN:VCALENDAR
VERSION:2.0
PRODID:-//AAUW Preschool - ECPv6.15.20//NONSGML v1.0//EN
CALSCALE:GREGORIAN
METHOD:PUBLISH
X-WR-CALNAME:AAUW Preschool
X-ORIGINAL-URL:https://www.aauwpreschool.org
X-WR-CALDESC:Events for AAUW Preschool
REFRESH-INTERVAL;VALUE=DURATION:PT1H
X-Robots-Tag:noindex
X-PUBLISHED-TTL:PT1H
BEGIN:VTIMEZONE
TZID:America/Chicago
BEGIN:DAYLIGHT
TZOFFSETFROM:-0600
TZOFFSETTO:-0500
TZNAME:CDT
DTSTART:20240310T080000
END:DAYLIGHT
BEGIN:STANDARD
TZOFFSETFROM:-0500
TZOFFSETTO:-0600
TZNAME:CST
DTSTART:20241103T070000
END:STANDARD
BEGIN:DAYLIGHT
TZOFFSETFROM:-0600
TZOFFSETTO:-0500
TZNAME:CDT
DTSTART:20250309T080000
END:DAYLIGHT
BEGIN:STANDARD
TZOFFSETFROM:-0500
TZOFFSETTO:-0600
TZNAME:CST
DTSTART:20251102T070000
END:STANDARD
BEGIN:DAYLIGHT
TZOFFSETFROM:-0600
TZOFFSETTO:-0500
TZNAME:CDT
DTSTART:20260308T080000
END:DAYLIGHT
BEGIN:STANDARD
TZOFFSETFROM:-0500
TZOFFSETTO:-0600
TZNAME:CST
DTSTART:20261101T070000
END:STANDARD
END:VTIMEZONE
BEGIN:VEVENT
DTSTART;TZID=America/Chicago:20250709T173000
DTEND;TZID=America/Chicago:20250709T190000
DTSTAMP:20260425T232428
CREATED:20250613T151616Z
LAST-MODIFIED:20250613T151617Z
UID:5970-1752082200-1752087600@www.aauwpreschool.org
SUMMARY:Summer Scouts: Week #1
DESCRIPTION:To register for Summer Scouts\, Session II\, please contact the office at 847-623-0550 or office@aauwpreschool.org & we will e-mail you a Registration Contract. \nSession II Dates: \nJuly 9\, 2025 from 5:30-6:45pm \nJuly 16\, 2025 from 5:30-6:45pm \nJuly 23\, 2025 from 5:30-6:45pm \nJuly 30\, 2025 from 5:30-6:45pm
URL:https://www.aauwpreschool.org/event/summer-scouts-week-1/
LOCATION:AAUW Preschool\, 2500 N. Northern Ave.\, Waukegan\, IL\, 60087\, United States
CATEGORIES:Scouts
ATTACH;FMTTYPE=image/jpeg:https://www.aauwpreschool.org/wp-content/uploads/2025/06/thumbnail.jpg
END:VEVENT
BEGIN:VEVENT
DTSTART;TZID=America/Chicago:20250716T173000
DTEND;TZID=America/Chicago:20250716T190000
DTSTAMP:20260425T232428
CREATED:20250613T151616Z
LAST-MODIFIED:20250613T151616Z
UID:5973-1752687000-1752692400@www.aauwpreschool.org
SUMMARY:Summer Scouts: Week #2
DESCRIPTION:To register for Summer Scouts\, Session II\, please contact the office at 847-623-0550 or office@aauwpreschool.org & we will e-mail you a Registration Contract. \nSession II Dates: \nJuly 9\, 2025 from 5:30-6:45pm \nJuly 16\, 2025 from 5:30-6:45pm \nJuly 23\, 2025 from 5:30-6:45pm \nJuly 30\, 2025 from 5:30-6:45pm
URL:https://www.aauwpreschool.org/event/summer-scouts-week-2/
LOCATION:AAUW Preschool\, 2500 N. Northern Ave.\, Waukegan\, IL\, 60087\, United States
CATEGORIES:Scouts
ATTACH;FMTTYPE=image/jpeg:https://www.aauwpreschool.org/wp-content/uploads/2025/06/thumbnail.jpg
END:VEVENT
BEGIN:VEVENT
DTSTART;TZID=America/Chicago:20250717T160000
DTEND;TZID=America/Chicago:20250717T180000
DTSTAMP:20260425T232428
CREATED:20250620T204118Z
LAST-MODIFIED:20250620T204530Z
UID:5982-1752768000-1752775200@www.aauwpreschool.org
SUMMARY:Preschool-Palooza 2025!
DESCRIPTION:Plan to join us for the AAUW Preschool-Palooza 2025!
URL:https://www.aauwpreschool.org/event/preschool-palooza-2025/
LOCATION:AAUW Preschool\, 2500 N. Northern Ave.\, Waukegan\, IL\, 60087\, United States
CATEGORIES:Community Event
ORGANIZER;CN="AAUW Preschool":MAILTO:office@aauwpreschool.org
END:VEVENT
BEGIN:VEVENT
DTSTART;TZID=America/Chicago:20250723T173000
DTEND;TZID=America/Chicago:20250723T190000
DTSTAMP:20260425T232428
CREATED:20250613T151616Z
LAST-MODIFIED:20250613T151616Z
UID:5975-1753291800-1753297200@www.aauwpreschool.org
SUMMARY:Summer Scouts: Week #3
DESCRIPTION:To register for Summer Scouts\, Session II\, please contact the office at 847-623-0550 or office@aauwpreschool.org & we will e-mail you a Registration Contract. \nSession II Dates: \nJuly 9\, 2025 from 5:30-6:45pm \nJuly 16\, 2025 from 5:30-6:45pm \nJuly 23\, 2025 from 5:30-6:45pm \nJuly 30\, 2025 from 5:30-6:45pm
URL:https://www.aauwpreschool.org/event/summer-scouts-week-3-2/
LOCATION:AAUW Preschool\, 2500 N. Northern Ave.\, Waukegan\, IL\, 60087\, United States
CATEGORIES:Scouts
ATTACH;FMTTYPE=image/jpeg:https://www.aauwpreschool.org/wp-content/uploads/2025/06/thumbnail.jpg
END:VEVENT
BEGIN:VEVENT
DTSTART;TZID=America/Chicago:20250730T173000
DTEND;TZID=America/Chicago:20250730T190000
DTSTAMP:20260425T232428
CREATED:20250613T151616Z
LAST-MODIFIED:20250613T151616Z
UID:5977-1753896600-1753902000@www.aauwpreschool.org
SUMMARY:Summer Scouts: Week #4
DESCRIPTION:To register for Summer Scouts\, Session II\, please contact the office at 847-623-0550 or office@aauwpreschool.org & we will e-mail you a Registration Contract. \nSession II Dates: \nJuly 9\, 2025 from 5:30-6:45pm \nJuly 16\, 2025 from 5:30-6:45pm \nJuly 23\, 2025 from 5:30-6:45pm \nJuly 30\, 2025 from 5:30-6:45pm
URL:https://www.aauwpreschool.org/event/summer-scouts-week-4/
LOCATION:AAUW Preschool\, 2500 N. Northern Ave.\, Waukegan\, IL\, 60087\, United States
CATEGORIES:Scouts
ATTACH;FMTTYPE=image/jpeg:https://www.aauwpreschool.org/wp-content/uploads/2025/06/thumbnail.jpg
END:VEVENT
END:VCALENDAR