BEGIN:VCALENDAR
VERSION:2.0
PRODID:-//AAUW Preschool - ECPv6.15.20//NONSGML v1.0//EN
CALSCALE:GREGORIAN
METHOD:PUBLISH
X-WR-CALNAME:AAUW Preschool
X-ORIGINAL-URL:https://www.aauwpreschool.org
X-WR-CALDESC:Events for AAUW Preschool
REFRESH-INTERVAL;VALUE=DURATION:PT1H
X-Robots-Tag:noindex
X-PUBLISHED-TTL:PT1H
BEGIN:VTIMEZONE
TZID:America/Chicago
BEGIN:DAYLIGHT
TZOFFSETFROM:-0600
TZOFFSETTO:-0500
TZNAME:CDT
DTSTART:20250309T080000
END:DAYLIGHT
BEGIN:STANDARD
TZOFFSETFROM:-0500
TZOFFSETTO:-0600
TZNAME:CST
DTSTART:20251102T070000
END:STANDARD
BEGIN:DAYLIGHT
TZOFFSETFROM:-0600
TZOFFSETTO:-0500
TZNAME:CDT
DTSTART:20260308T080000
END:DAYLIGHT
BEGIN:STANDARD
TZOFFSETFROM:-0500
TZOFFSETTO:-0600
TZNAME:CST
DTSTART:20261101T070000
END:STANDARD
BEGIN:DAYLIGHT
TZOFFSETFROM:-0600
TZOFFSETTO:-0500
TZNAME:CDT
DTSTART:20270314T080000
END:DAYLIGHT
BEGIN:STANDARD
TZOFFSETFROM:-0500
TZOFFSETTO:-0600
TZNAME:CST
DTSTART:20271107T070000
END:STANDARD
END:VTIMEZONE
BEGIN:VEVENT
DTSTART;TZID=America/Chicago:20260608T083000
DTEND;TZID=America/Chicago:20260611T113000
DTSTAMP:20260425T065906
CREATED:20260203T163348Z
LAST-MODIFIED:20260203T164405Z
UID:8215-1780907400-1781177400@www.aauwpreschool.org
SUMMARY:Summer Camp: Week 2: Building & Construction
DESCRIPTION:Summer Camp: Week 2: Building & Construction!\nLittle builders will design\, create and problem-solve as they explore construction through hands-on play. Campers will experiment with different building materials\, work together on structures and strengthen early engineering skills while fostering creativity\, persistence and teamwork. \nAdditional Summer Camp information and registration here: https://www.aauwpreschool.org/summer-camp-2026/ \nFollow us on Facebook: https://www.facebook.com/share/p/18DJTbJyqd/ \nSummer Camp questions and registration information\, contact Emily Frievalt\, Enrollment & Development Coordinator at (847) 623-0550 or office@aauwpreschool.org \nWelcome Campers!
URL:https://www.aauwpreschool.org/event/summer-camp-week-2-building-construction/
LOCATION:AAUW Preschool\, 2500 N. Northern Ave.\, Waukegan\, IL\, 60087\, United States
CATEGORIES:Summer Camp
ATTACH;FMTTYPE=image/jpeg:https://www.aauwpreschool.org/wp-content/uploads/2026/02/Summer-Camp-2026-Flyer.jpg
ORGANIZER;CN="AAUW Preschool":MAILTO:office@aauwpreschool.org
END:VEVENT
END:VCALENDAR