BEGIN:VCALENDAR
VERSION:2.0
PRODID:-//AAUW Preschool - ECPv6.15.20//NONSGML v1.0//EN
CALSCALE:GREGORIAN
METHOD:PUBLISH
X-WR-CALNAME:AAUW Preschool
X-ORIGINAL-URL:https://www.aauwpreschool.org
X-WR-CALDESC:Events for AAUW Preschool
REFRESH-INTERVAL;VALUE=DURATION:PT1H
X-Robots-Tag:noindex
X-PUBLISHED-TTL:PT1H
BEGIN:VTIMEZONE
TZID:America/Chicago
BEGIN:DAYLIGHT
TZOFFSETFROM:-0600
TZOFFSETTO:-0500
TZNAME:CDT
DTSTART:20250309T080000
END:DAYLIGHT
BEGIN:STANDARD
TZOFFSETFROM:-0500
TZOFFSETTO:-0600
TZNAME:CST
DTSTART:20251102T070000
END:STANDARD
BEGIN:DAYLIGHT
TZOFFSETFROM:-0600
TZOFFSETTO:-0500
TZNAME:CDT
DTSTART:20260308T080000
END:DAYLIGHT
BEGIN:STANDARD
TZOFFSETFROM:-0500
TZOFFSETTO:-0600
TZNAME:CST
DTSTART:20261101T070000
END:STANDARD
BEGIN:DAYLIGHT
TZOFFSETFROM:-0600
TZOFFSETTO:-0500
TZNAME:CDT
DTSTART:20270314T080000
END:DAYLIGHT
BEGIN:STANDARD
TZOFFSETFROM:-0500
TZOFFSETTO:-0600
TZNAME:CST
DTSTART:20271107T070000
END:STANDARD
END:VTIMEZONE
BEGIN:VEVENT
DTSTART;TZID=America/Chicago:20260126T080000
DTEND;TZID=America/Chicago:20260206T130000
DTSTAMP:20260425T104829
CREATED:20260123T051819Z
LAST-MODIFIED:20260123T053615Z
UID:8087-1769414400-1770382800@www.aauwpreschool.org
SUMMARY:2026-2027 Priority Registration: Open for Current Families
DESCRIPTION:2026-2027 Priority Registration has Arrived!\nCurrently enrolled AAUW Preschool families can re-enroll their child/children from Monday\, January 26 through Friday\, February 6\, 2026. \nCurrently enrolled families are eligible to participate in this priority registration. Placement is based on a first-come\, first-served basis. Register during In-House Registration to guarantee a spot for the 2026-2027 school year! \nVisit https://www.aauwpreschool.org/2026-2027-class-summary-guide/ to view our 2026-2027 class options. \nContact us with questions! \nPhone: (847) 623-0550 \nE-mail: office@aauwpreschool.org \nFollow us on Facebook: https://www.facebook.com/AAUW.Preschool.Waukegan
URL:https://www.aauwpreschool.org/event/2026-2027-priority-registration/
LOCATION:AAUW Preschool\, 2500 N. Northern Ave.\, Waukegan\, IL\, 60087\, United States
ATTACH;FMTTYPE=image/jpeg:https://www.aauwpreschool.org/wp-content/uploads/2026/01/611987692_1469530148510093_4724737909319243234_n.jpg
ORGANIZER;CN="AAUW Preschool":MAILTO:office@aauwpreschool.org
END:VEVENT
END:VCALENDAR