BEGIN:VCALENDAR
VERSION:2.0
PRODID:-//AAUW Preschool - ECPv6.15.20//NONSGML v1.0//EN
CALSCALE:GREGORIAN
METHOD:PUBLISH
X-ORIGINAL-URL:https://www.aauwpreschool.org
X-WR-CALDESC:Events for AAUW Preschool
REFRESH-INTERVAL;VALUE=DURATION:PT1H
X-Robots-Tag:noindex
X-PUBLISHED-TTL:PT1H
BEGIN:VTIMEZONE
TZID:America/Chicago
BEGIN:DAYLIGHT
TZOFFSETFROM:-0600
TZOFFSETTO:-0500
TZNAME:CDT
DTSTART:20240310T080000
END:DAYLIGHT
BEGIN:STANDARD
TZOFFSETFROM:-0500
TZOFFSETTO:-0600
TZNAME:CST
DTSTART:20241103T070000
END:STANDARD
BEGIN:DAYLIGHT
TZOFFSETFROM:-0600
TZOFFSETTO:-0500
TZNAME:CDT
DTSTART:20250309T080000
END:DAYLIGHT
BEGIN:STANDARD
TZOFFSETFROM:-0500
TZOFFSETTO:-0600
TZNAME:CST
DTSTART:20251102T070000
END:STANDARD
BEGIN:DAYLIGHT
TZOFFSETFROM:-0600
TZOFFSETTO:-0500
TZNAME:CDT
DTSTART:20260308T080000
END:DAYLIGHT
BEGIN:STANDARD
TZOFFSETFROM:-0500
TZOFFSETTO:-0600
TZNAME:CST
DTSTART:20261101T070000
END:STANDARD
END:VTIMEZONE
BEGIN:VEVENT
DTSTART;TZID=America/Chicago:20251210T160000
DTEND;TZID=America/Chicago:20251210T220000
DTSTAMP:20260425T184426
CREATED:20251118T164107Z
LAST-MODIFIED:20251122T051528Z
UID:7479-1765382400-1765404000@www.aauwpreschool.org
SUMMARY:Lou Malnati's Restaurant Fundraiser
DESCRIPTION:Join us Wednesday\, December 10th from 4-10PM to chow down on delicious pizza AND support AAUW Preschool! \nDetails in the event photo…thanks for your support!
URL:https://www.aauwpreschool.org/event/lou-malnatis-restaurant-fundraiser-2/
LOCATION:Lou Malnati’s Gurnee\, 4949 Grand Ave\, Gurnee\, IL\, 60031\, United States
CATEGORIES:Fundraiser
ORGANIZER;CN="AAUW Preschool":MAILTO:office@aauwpreschool.org
END:VEVENT
END:VCALENDAR