BEGIN:VCALENDAR
VERSION:2.0
PRODID:-//AAUW Preschool - ECPv6.15.20//NONSGML v1.0//EN
CALSCALE:GREGORIAN
METHOD:PUBLISH
X-WR-CALNAME:AAUW Preschool
X-ORIGINAL-URL:https://www.aauwpreschool.org
X-WR-CALDESC:Events for AAUW Preschool
REFRESH-INTERVAL;VALUE=DURATION:PT1H
X-Robots-Tag:noindex
X-PUBLISHED-TTL:PT1H
BEGIN:VTIMEZONE
TZID:America/Chicago
BEGIN:DAYLIGHT
TZOFFSETFROM:-0600
TZOFFSETTO:-0500
TZNAME:CDT
DTSTART:20240310T080000
END:DAYLIGHT
BEGIN:STANDARD
TZOFFSETFROM:-0500
TZOFFSETTO:-0600
TZNAME:CST
DTSTART:20241103T070000
END:STANDARD
BEGIN:DAYLIGHT
TZOFFSETFROM:-0600
TZOFFSETTO:-0500
TZNAME:CDT
DTSTART:20250309T080000
END:DAYLIGHT
BEGIN:STANDARD
TZOFFSETFROM:-0500
TZOFFSETTO:-0600
TZNAME:CST
DTSTART:20251102T070000
END:STANDARD
BEGIN:DAYLIGHT
TZOFFSETFROM:-0600
TZOFFSETTO:-0500
TZNAME:CDT
DTSTART:20260308T080000
END:DAYLIGHT
BEGIN:STANDARD
TZOFFSETFROM:-0500
TZOFFSETTO:-0600
TZNAME:CST
DTSTART:20261101T070000
END:STANDARD
END:VTIMEZONE
BEGIN:VEVENT
DTSTART;VALUE=DATE:20250901
DTEND;VALUE=DATE:20250902
DTSTAMP:20260425T221901
CREATED:20250820T053413Z
LAST-MODIFIED:20250820T053414Z
UID:6305-1756684800-1756771199@www.aauwpreschool.org
SUMMARY:Labor Day: NO SCHOOL
DESCRIPTION:AAUW Preschool is closed for Labor Day. No classes will be held today.
URL:https://www.aauwpreschool.org/event/labor-day-no-school-2/
LOCATION:AAUW Preschool\, 2500 N. Northern Ave.\, Waukegan\, IL\, 60087\, United States
CATEGORIES:AAUW Families
ATTACH;FMTTYPE=image/png:https://www.aauwpreschool.org/wp-content/uploads/2025/08/528477_cc0a48912b5e46ebb147b03ba4e10d46mv2.png
END:VEVENT
END:VCALENDAR